BEGIN:VCALENDAR
VERSION:2.0
PRODID:-//Squarespace Inc/Squarespace 6//v6//EN
BEGIN:VEVENT
UID:603b68f02d7e382fa9f9c164@squarespace.com
DTSTAMP:20210228T095719Z
DTSTART:20210323T083000Z
DTEND:20210323T100000Z
SUMMARY:Night Connect - with Andrew &amp\; Carolyn
GEO:-35.144066;139.285302
LOCATION:Bridge City Church\, 63 Darling Avenue\, Murray Bridge\, SA\, 5253
 \, Australia
END:VEVENT
END:VCALENDAR
