BEGIN:VCALENDAR
VERSION:2.0
PRODID:-//Squarespace Inc/Squarespace 6//v6//EN
BEGIN:VEVENT
UID:603b697a056f4f6524fdd611@squarespace.com
DTSTAMP:20210228T095936Z
DTSTART:20210326T213000Z
DTEND:20210326T230000Z
SUMMARY:Men's Breakfast
GEO:-35.144066;139.285302
LOCATION:Bridge City Church\, 63 Darling Avenue\, Murray Bridge\, SA\, 5253
 \, Australia
END:VEVENT
END:VCALENDAR
