BEGIN:VCALENDAR
VERSION:2.0
PRODID:-//Squarespace Inc/Squarespace 6//v6//EN
BEGIN:VEVENT
UID:60149311cdd2582632e4e893@squarespace.com
DTSTAMP:20210228T095922Z
DTSTART:20210226T213000Z
DTEND:20210226T230000Z
SUMMARY:Men's Breakfast
GEO:-35.144066;139.285302
LOCATION:Bridge City Church\, 63 Darling Avenue\, Murray Bridge\, SA\, 5253
 \, Australia
END:VEVENT
END:VCALENDAR
