BEGIN:VCALENDAR
VERSION:2.0
PRODID:-//Squarespace Inc/Squarespace 6//v6//EN
BEGIN:VEVENT
UID:60148fede44c221a2b40eb45@squarespace.com
DTSTAMP:20210129T224532Z
DTSTART:20210227T233000Z
DTEND:20210228T010000Z
SUMMARY:Sunday Service
GEO:-35.144066;139.285302
LOCATION:Bridge City Church\, 63 Darling Avenue\, Murray Bridge\, SA\, 5253
 \, Australia
END:VEVENT
END:VCALENDAR
