BEGIN:VCALENDAR
VERSION:2.0
PRODID:-//Squarespace Inc/Squarespace 6//v6//EN
BEGIN:VEVENT
UID:601491a2f44ca816f48862e0@squarespace.com
DTSTAMP:20210129T225245Z
DTSTART:20210222T233000Z
DTEND:20210223T010000Z
SUMMARY:Day Connect
GEO:-35.144066;139.285302
LOCATION:Bridge City Church\, 63 Darling Avenue\, Murray Bridge\, SA\, 5253
 \, Australia
END:VEVENT
END:VCALENDAR
