BEGIN:VCALENDAR
VERSION:2.0
PRODID:-//Squarespace Inc/Squarespace 6//v6//EN
BEGIN:VEVENT
UID:603b498d7b5a401e70dbb02a@squarespace.com
DTSTAMP:20210228T074346Z
DTSTART:20210320T233000Z
DTEND:20210321T010000Z
SUMMARY:Sunday Service
GEO:-35.144066;139.285302
LOCATION:Bridge City Church\, 63 Darling Avenue\, Murray Bridge\, SA\, 5253
 \, Australia
END:VEVENT
END:VCALENDAR
