BEGIN:VCALENDAR
VERSION:2.0
PRODID:-//Squarespace Inc/Squarespace 6//v6//EN
BEGIN:VEVENT
UID:603b50186822245313f2f172@squarespace.com
DTSTAMP:20210228T081145Z
DTSTART:20210404T003000Z
DTEND:20210404T020000Z
SUMMARY:Easter Sunday Service
GEO:-35.144066;139.285302
LOCATION:Bridge City Church\, 63 Darling Avenue\, Murray Bridge\, SA\, 5253
 \, Australia
END:VEVENT
END:VCALENDAR
